BEGIN:VCALENDAR
VERSION:2.0
PRODID:-//Knights of Columbus Council 7200 - ECPv6.15.20//NONSGML v1.0//EN
CALSCALE:GREGORIAN
METHOD:PUBLISH
X-ORIGINAL-URL:https://kofc7200.com
X-WR-CALDESC:Events for Knights of Columbus Council 7200
REFRESH-INTERVAL;VALUE=DURATION:PT1H
X-Robots-Tag:noindex
X-PUBLISHED-TTL:PT1H
BEGIN:VTIMEZONE
TZID:America/New_York
BEGIN:DAYLIGHT
TZOFFSETFROM:-0500
TZOFFSETTO:-0400
TZNAME:EDT
DTSTART:20240310T070000
END:DAYLIGHT
BEGIN:STANDARD
TZOFFSETFROM:-0400
TZOFFSETTO:-0500
TZNAME:EST
DTSTART:20241103T060000
END:STANDARD
BEGIN:DAYLIGHT
TZOFFSETFROM:-0500
TZOFFSETTO:-0400
TZNAME:EDT
DTSTART:20250309T070000
END:DAYLIGHT
BEGIN:STANDARD
TZOFFSETFROM:-0400
TZOFFSETTO:-0500
TZNAME:EST
DTSTART:20251102T060000
END:STANDARD
BEGIN:DAYLIGHT
TZOFFSETFROM:-0500
TZOFFSETTO:-0400
TZNAME:EDT
DTSTART:20260308T070000
END:DAYLIGHT
BEGIN:STANDARD
TZOFFSETFROM:-0400
TZOFFSETTO:-0500
TZNAME:EST
DTSTART:20261101T060000
END:STANDARD
END:VTIMEZONE
BEGIN:VEVENT
DTSTART;TZID=America/New_York:20251009T183000
DTEND;TZID=America/New_York:20251009T210000
DTSTAMP:20260421T143916
CREATED:20250505T185235Z
LAST-MODIFIED:20250505T185235Z
UID:849-1760034600-1760043600@kofc7200.com
SUMMARY:Membership Meeting (rosary @ 6:30)
DESCRIPTION:
URL:https://kofc7200.com/event/membership-meeting-rosary-630-5/
END:VEVENT
BEGIN:VEVENT
DTSTART;TZID=America/New_York:20251010T110000
DTEND;TZID=America/New_York:20251010T200000
DTSTAMP:20260421T143916
CREATED:20250505T185235Z
LAST-MODIFIED:20250505T185235Z
UID:850-1760094000-1760126400@kofc7200.com
SUMMARY:MI Drive-Tootsie Rolls
DESCRIPTION:
URL:https://kofc7200.com/event/mi-drive-tootsie-rolls/
END:VEVENT
BEGIN:VEVENT
DTSTART;TZID=America/New_York:20251011T070000
DTEND;TZID=America/New_York:20251011T200000
DTSTAMP:20260421T143916
CREATED:20250505T185236Z
LAST-MODIFIED:20250505T185236Z
UID:851-1760166000-1760212800@kofc7200.com
SUMMARY:MI Drive-Tootsie Rolls
DESCRIPTION:
URL:https://kofc7200.com/event/mi-drive-tootsie-rolls-2/
END:VEVENT
BEGIN:VEVENT
DTSTART;TZID=America/New_York:20251012T070000
DTEND;TZID=America/New_York:20251012T170000
DTSTAMP:20260421T143916
CREATED:20250505T185236Z
LAST-MODIFIED:20250505T185236Z
UID:852-1760252400-1760288400@kofc7200.com
SUMMARY:MI Drive-Tootsie Rolls
DESCRIPTION:
URL:https://kofc7200.com/event/mi-drive-tootsie-rolls-3/
END:VEVENT
BEGIN:VEVENT
DTSTART;TZID=America/New_York:20251018T160000
DTEND;TZID=America/New_York:20251018T161500
DTSTAMP:20260421T143916
CREATED:20250505T185250Z
LAST-MODIFIED:20250505T185250Z
UID:853-1760803200-1760804100@kofc7200.com
SUMMARY:3rd Saturday K of C Rosary (with Parish)
DESCRIPTION:
URL:https://kofc7200.com/event/3rd-saturday-k-of-c-rosary-with-parish-6/
END:VEVENT
BEGIN:VEVENT
DTSTART;TZID=America/New_York:20251023T190000
DTEND;TZID=America/New_York:20251023T210000
DTSTAMP:20260421T143916
CREATED:20250505T185250Z
LAST-MODIFIED:20250505T185250Z
UID:854-1761246000-1761253200@kofc7200.com
SUMMARY:Officers Meeting
DESCRIPTION:
URL:https://kofc7200.com/event/officers-meeting-6/
END:VEVENT
END:VCALENDAR