BEGIN:VCALENDAR
VERSION:2.0
PRODID:-//Knights of Columbus Council 7200 - ECPv6.15.20//NONSGML v1.0//EN
CALSCALE:GREGORIAN
METHOD:PUBLISH
X-ORIGINAL-URL:https://kofc7200.com
X-WR-CALDESC:Events for Knights of Columbus Council 7200
REFRESH-INTERVAL;VALUE=DURATION:PT1H
X-Robots-Tag:noindex
X-PUBLISHED-TTL:PT1H
BEGIN:VTIMEZONE
TZID:America/New_York
BEGIN:DAYLIGHT
TZOFFSETFROM:-0500
TZOFFSETTO:-0400
TZNAME:EDT
DTSTART:20250309T070000
END:DAYLIGHT
BEGIN:STANDARD
TZOFFSETFROM:-0400
TZOFFSETTO:-0500
TZNAME:EST
DTSTART:20251102T060000
END:STANDARD
BEGIN:DAYLIGHT
TZOFFSETFROM:-0500
TZOFFSETTO:-0400
TZNAME:EDT
DTSTART:20260308T070000
END:DAYLIGHT
BEGIN:STANDARD
TZOFFSETFROM:-0400
TZOFFSETTO:-0500
TZNAME:EST
DTSTART:20261101T060000
END:STANDARD
BEGIN:DAYLIGHT
TZOFFSETFROM:-0500
TZOFFSETTO:-0400
TZNAME:EDT
DTSTART:20270314T070000
END:DAYLIGHT
BEGIN:STANDARD
TZOFFSETFROM:-0400
TZOFFSETTO:-0500
TZNAME:EST
DTSTART:20271107T060000
END:STANDARD
END:VTIMEZONE
BEGIN:VEVENT
DTSTART;TZID=America/New_York:20260212T183000
DTEND;TZID=America/New_York:20260212T210000
DTSTAMP:20260421T075827
CREATED:20250505T185321Z
LAST-MODIFIED:20250505T185321Z
UID:866-1770921000-1770930000@kofc7200.com
SUMMARY:Membership Meeting (rosary @ 6:30)
DESCRIPTION:
URL:https://kofc7200.com/event/membership-meeting-rosary-630-8/
END:VEVENT
BEGIN:VEVENT
DTSTART;TZID=America/New_York:20260220T080000
DTEND;TZID=America/New_York:20260220T210000
DTSTAMP:20260421T075827
CREATED:20250505T185321Z
LAST-MODIFIED:20250505T185321Z
UID:867-1771574400-1771621200@kofc7200.com
SUMMARY:Lenten Fish Fry
DESCRIPTION:
URL:https://kofc7200.com/event/lenten-fish-fry/
LOCATION:Kitchen / Social Hall\, 18201 23 Mile Rd.\, Macomb\, MI\, 48042\, United States
END:VEVENT
BEGIN:VEVENT
DTSTART;TZID=America/New_York:20260221T160000
DTEND;TZID=America/New_York:20260221T161500
DTSTAMP:20260421T075827
CREATED:20250505T185335Z
LAST-MODIFIED:20250505T185335Z
UID:868-1771689600-1771690500@kofc7200.com
SUMMARY:3rd Saturday K of C Rosary (with Parish)
DESCRIPTION:
URL:https://kofc7200.com/event/3rd-saturday-k-of-c-rosary-with-parish-10/
END:VEVENT
BEGIN:VEVENT
DTSTART;TZID=America/New_York:20260226T190000
DTEND;TZID=America/New_York:20260226T210000
DTSTAMP:20260421T075827
CREATED:20250505T185335Z
LAST-MODIFIED:20250505T185335Z
UID:869-1772132400-1772139600@kofc7200.com
SUMMARY:Officers Meeting
DESCRIPTION:
URL:https://kofc7200.com/event/officers-meeting-9/
END:VEVENT
BEGIN:VEVENT
DTSTART;TZID=America/New_York:20260227T080000
DTEND;TZID=America/New_York:20260227T210000
DTSTAMP:20260421T075827
CREATED:20250505T185335Z
LAST-MODIFIED:20250505T185335Z
UID:870-1772179200-1772226000@kofc7200.com
SUMMARY:Lenten Fish Fry
DESCRIPTION:
URL:https://kofc7200.com/event/lenten-fish-fry-2/
LOCATION:Kitchen / Social Hall\, 18201 23 Mile Rd.\, Macomb\, MI\, 48042\, United States
END:VEVENT
END:VCALENDAR