BEGIN:VCALENDAR
VERSION:2.0
PRODID:-//Knights of Columbus Council 7200 - ECPv6.15.20//NONSGML v1.0//EN
CALSCALE:GREGORIAN
METHOD:PUBLISH
X-ORIGINAL-URL:https://kofc7200.com
X-WR-CALDESC:Events for Knights of Columbus Council 7200
REFRESH-INTERVAL;VALUE=DURATION:PT1H
X-Robots-Tag:noindex
X-PUBLISHED-TTL:PT1H
BEGIN:VTIMEZONE
TZID:America/New_York
BEGIN:DAYLIGHT
TZOFFSETFROM:-0500
TZOFFSETTO:-0400
TZNAME:EDT
DTSTART:20250309T070000
END:DAYLIGHT
BEGIN:STANDARD
TZOFFSETFROM:-0400
TZOFFSETTO:-0500
TZNAME:EST
DTSTART:20251102T060000
END:STANDARD
BEGIN:DAYLIGHT
TZOFFSETFROM:-0500
TZOFFSETTO:-0400
TZNAME:EDT
DTSTART:20260308T070000
END:DAYLIGHT
BEGIN:STANDARD
TZOFFSETFROM:-0400
TZOFFSETTO:-0500
TZNAME:EST
DTSTART:20261101T060000
END:STANDARD
BEGIN:DAYLIGHT
TZOFFSETFROM:-0500
TZOFFSETTO:-0400
TZNAME:EDT
DTSTART:20270314T070000
END:DAYLIGHT
BEGIN:STANDARD
TZOFFSETFROM:-0400
TZOFFSETTO:-0500
TZNAME:EST
DTSTART:20271107T060000
END:STANDARD
END:VTIMEZONE
BEGIN:VEVENT
DTSTART;TZID=America/New_York:20260306T080000
DTEND;TZID=America/New_York:20260306T210000
DTSTAMP:20260421T094757
CREATED:20250505T185336Z
LAST-MODIFIED:20250505T185336Z
UID:871-1772784000-1772830800@kofc7200.com
SUMMARY:Lenten Fish Fry
DESCRIPTION:
URL:https://kofc7200.com/event/lenten-fish-fry-3/
LOCATION:Kitchen / Social Hall\, 18201 23 Mile Rd.\, Macomb\, MI\, 48042\, United States
END:VEVENT
BEGIN:VEVENT
DTSTART;TZID=America/New_York:20260312T183000
DTEND;TZID=America/New_York:20260312T210000
DTSTAMP:20260421T094757
CREATED:20250505T185336Z
LAST-MODIFIED:20250505T185336Z
UID:872-1773340200-1773349200@kofc7200.com
SUMMARY:Membership Meeting (rosary @ 6:30)
DESCRIPTION:
URL:https://kofc7200.com/event/membership-meeting-rosary-630-9/
END:VEVENT
BEGIN:VEVENT
DTSTART;TZID=America/New_York:20260313T080000
DTEND;TZID=America/New_York:20260313T210000
DTSTAMP:20260421T094757
CREATED:20250505T185350Z
LAST-MODIFIED:20250505T185350Z
UID:873-1773388800-1773435600@kofc7200.com
SUMMARY:Lenten Fish Fry
DESCRIPTION:
URL:https://kofc7200.com/event/lenten-fish-fry-4/
LOCATION:Kitchen / Social Hall\, 18201 23 Mile Rd.\, Macomb\, MI\, 48042\, United States
END:VEVENT
BEGIN:VEVENT
DTSTART;TZID=America/New_York:20260320T080000
DTEND;TZID=America/New_York:20260320T210000
DTSTAMP:20260421T094757
CREATED:20250505T185350Z
LAST-MODIFIED:20250505T185350Z
UID:874-1773993600-1774040400@kofc7200.com
SUMMARY:Lenten Fish Fry
DESCRIPTION:
URL:https://kofc7200.com/event/lenten-fish-fry-5/
LOCATION:Kitchen / Social Hall\, 18201 23 Mile Rd.\, Macomb\, MI\, 48042\, United States
END:VEVENT
BEGIN:VEVENT
DTSTART;TZID=America/New_York:20260321T160000
DTEND;TZID=America/New_York:20260321T161500
DTSTAMP:20260421T094757
CREATED:20250505T185351Z
LAST-MODIFIED:20250505T185351Z
UID:875-1774108800-1774109700@kofc7200.com
SUMMARY:3rd Saturday K of C Rosary (with Parish)
DESCRIPTION:
URL:https://kofc7200.com/event/3rd-saturday-k-of-c-rosary-with-parish-11/
END:VEVENT
BEGIN:VEVENT
DTSTART;TZID=America/New_York:20260326T190000
DTEND;TZID=America/New_York:20260326T210000
DTSTAMP:20260421T094757
CREATED:20250505T185351Z
LAST-MODIFIED:20250505T185351Z
UID:876-1774551600-1774558800@kofc7200.com
SUMMARY:Officers Meeting
DESCRIPTION:
URL:https://kofc7200.com/event/officers-meeting-10/
END:VEVENT
BEGIN:VEVENT
DTSTART;TZID=America/New_York:20260327T080000
DTEND;TZID=America/New_York:20260327T210000
DTSTAMP:20260421T094757
CREATED:20250505T185351Z
LAST-MODIFIED:20250505T185351Z
UID:877-1774598400-1774645200@kofc7200.com
SUMMARY:Lenten Fish Fry
DESCRIPTION:
URL:https://kofc7200.com/event/lenten-fish-fry-6/
LOCATION:Kitchen / Social Hall\, 18201 23 Mile Rd.\, Macomb\, MI\, 48042\, United States
END:VEVENT
BEGIN:VEVENT
DTSTART;TZID=America/New_York:20260328T160000
DTEND;TZID=America/New_York:20260328T180000
DTSTAMP:20260421T094757
CREATED:20250505T185405Z
LAST-MODIFIED:20250505T185405Z
UID:878-1774713600-1774720800@kofc7200.com
SUMMARY:MI Drive-Tootsie Rolls
DESCRIPTION:
URL:https://kofc7200.com/event/mi-drive-tootsie-rolls-4/
LOCATION:Gathering Space / Classroom 10
END:VEVENT
BEGIN:VEVENT
DTSTART;TZID=America/New_York:20260329T080000
DTEND;TZID=America/New_York:20260329T190000
DTSTAMP:20260421T094757
CREATED:20250505T185405Z
LAST-MODIFIED:20250505T185405Z
UID:879-1774771200-1774810800@kofc7200.com
SUMMARY:MI Drive-Tootsie Rolls
DESCRIPTION:
URL:https://kofc7200.com/event/mi-drive-tootsie-rolls-5/
LOCATION:Gathering Space / Classroom 10
END:VEVENT
END:VCALENDAR